{"text_format":"2","workbook":"xlsx","n_sheets":1,"sheets":["12hold"],"not_rendered":{"charts":0,"images":0,"macros":0,"external_links":0,"defined_names":0,"comments":0,"pivot_tables":0},"unopened":[],"bounds":{"document_bytes":16777216,"sheet_cells":100000,"run_cost":"one","rows_first":2000,"rows_last":500,"rows_between":2000,"halvings":0,"cell_chars":16384,"cell_head_chars":4096},"cells_cut":0,"cells_raw":0,"read":"whole","date_system":"1900"}

{"sheet":"12hold","index":0,"n_rows":65,"n_cols":51,"rows_kept":65,"cut":false,"hidden":false,"merged":[[2,37,2,41],[6,1,6,2],[6,30,6,31],[5,1,5,2],[5,30,5,31],[8,1,8,2],[8,30,8,31],[17,1,17,2],[17,3,17,5],[17,6,17,8],[17,9,17,13],[17,14,17,29],[17,31,17,47],[4,30,4,52],[18,1,18,2],[18,3,18,5],[18,6,18,8],[18,9,18,13],[18,14,18,29],[18,31,18,47],[17,48,17,49],[17,51,17,52],[16,1,16,2],[16,3,16,5],[16,6,16,8],[16,9,16,13],[16,14,16,47],[16,48,16,52],[18,48,18,49],[18,51,18,52],[19,51,19,52],[21,1,21,2],[21,3,21,5],[21,6,21,8],[21,9,21,13],[21,14,21,29],[21,31,21,47],[21,48,21,49],[21,51,21,52],[20,1,20,2],[20,3,20,5],[20,6,20,8],[20,9,20,13],[20,14,20,29],[20,31,20,47],[20,48,20,49],[20,51,20,52],[19,1,19,2],[19,3,19,5],[19,6,19,8],[19,9,19,13],[19,14,19,29],[19,31,19,47],[19,48,19,49],[22,48,22,49],[22,51,22,52],[23,1,23,2],[23,3,23,5],[23,6,23,8],[23,9,23,13],[23,14,23,29],[23,31,23,47],[23,48,23,49],[22,1,22,2],[22,3,22,5],[22,6,22,8],[22,9,22,13],[22,14,22,29],[22,31,22,47],[23,51,23,52],[25,1,25,2],[25,3,25,5],[25,6,25,8],[25,9,25,13],[25,14,25,29],[25,31,25,47],[25,48,25,49],[25,51,25,52],[24,1,24,2],[24,3,24,5],[24,6,24,8],[24,9,24,13],[24,14,24,29],[24,31,24,47],[24,48,24,49],[24,51,24,52],[26,48,26,49],[26,51,26,52],[27,1,27,2],[27,3,27,5],[27,6,27,8],[27,9,27,13],[27,14,27,29],[27,31,27,47],[27,48,27,49],[26,1,26,2],[26,3,26,5],[26,6,26,8],[26,9,26,13],[26,14,26,29],[26,31,26,47],[27,51,27,52],[29,1,29,2],[29,3,29,5],[29,6,29,8],[29,9,29,13],[29,14,29,29],[29,31,29,47],[29,48,29,49],[29,51,29,52],[28,1,28,2],[28,3,28,5],[28,6,28,8],[28,9,28,13],[28,14,28,29],[28,31,28,47],[28,48,28,49],[28,51,28,52],[30,48,30,49],[30,51,30,52],[31,1,31,2],[31,3,31,5],[31,6,31,8],[31,9,31,13],[31,14,31,29],[31,31,31,47],[31,48,31,49],[30,1,30,2],[30,3,30,5],[30,6,30,8],[30,9,30,13],[30,14,30,29],[30,31,30,47],[31,51,31,52],[33,1,33,2],[33,3,33,5],[33,6,33,8],[33,9,33,13],[33,14,33,29],[33,31,33,47],[33,48,33,49],[33,51,33,52],[32,1,32,2],[32,3,32,5],[32,6,32,8],[32,9,32,13],[32,14,32,29],[32,31,32,47],[32,48,32,49],[32,51,32,52],[34,48,34,49],[34,51,34,52],[36,1,36,2],[36,3,36,8],[36,9,36,13],[36,14,36,47],[36,48,36,52],[34,1,34,2],[34,3,34,5],[34,6,34,8],[34,9,34,13],[34,14,34,29],[34,31,34,47],[39,1,40,2],[39,3,40,8],[39,9,40,13],[39,14,39,29],[39,31,39,47],[37,1,38,2],[37,3,38,8],[37,9,38,13],[37,14,37,29],[37,31,37,47],[39,48,40,49],[39,50,40,50],[39,51,40,52],[40,14,40,29],[40,31,40,47],[37,50,38,50],[37,51,38,52],[38,14,38,29],[38,31,38,47],[37,48,38,49],[41,50,42,50],[41,51,42,52],[42,14,42,29],[42,31,42,47],[43,1,44,2],[43,3,44,8],[43,9,44,13],[43,14,43,29],[43,31,43,47],[41,1,42,2],[41,3,42,8],[41,9,42,13],[41,14,41,29],[41,31,41,47],[41,48,42,49],[46,1,46,2],[46,3,46,8],[46,9,46,13],[46,14,46,47],[46,48,46,52],[43,48,44,49],[43,50,44,50],[43,51,44,52],[44,14,44,29],[44,31,44,47],[49,1,50,2],[49,3,50,8],[49,9,50,13],[49,14,49,29],[49,31,49,47],[47,1,48,2],[47,3,48,8],[47,9,48,13],[47,14,47,29],[47,31,47,47],[49,48,50,49],[49,50,50,50],[49,51,50,52],[50,14,50,29],[50,31,50,47],[47,50,48,50],[47,51,48,52],[48,14,48,29],[48,31,48,47],[47,48,48,49],[51,50,52,50],[51,51,52,52],[52,14,52,29],[52,31,52,47],[53,1,54,2],[53,3,54,8],[53,9,54,13],[53,14,53,29],[53,31,53,47],[51,1,52,2],[51,3,52,8],[51,9,52,13],[51,14,51,29],[51,31,51,47],[51,48,52,49],[56,1,56,2],[56,3,56,8],[56,9,56,13],[56,14,56,47],[56,48,56,52],[53,48,54,49],[53,50,54,50],[53,51,54,52],[54,14,54,29],[54,31,54,47],[57,50,58,50],[57,51,58,52],[58,14,58,29],[58,31,58,47],[59,1,60,2],[59,3,60,8],[59,9,60,13],[59,14,59,29],[59,31,59,47],[57,1,58,2],[57,3,58,8],[57,9,58,13],[57,14,57,29],[57,31,57,47],[57,48,58,49],[62,1,62,2],[62,3,62,8],[62,9,62,13],[62,14,62,47],[62,48,62,52],[59,48,60,49],[59,50,60,50],[59,51,60,52],[60,14,60,29],[60,31,60,47],[63,50,64,50],[63,51,64,52],[64,14,64,29],[64,31,64,47],[63,1,64,2],[63,3,64,8],[63,9,64,13],[63,14,63,29],[63,31,63,47],[63,48,64,49],[0,0,1,52],[5,32,5,52],[6,32,6,52],[7,32,7,52],[8,32,8,52],[14,17,14,37],[13,17,13,37],[12,17,12,37],[11,17,11,37],[10,15,10,37],[8,3,8,23],[7,3,7,23],[6,3,6,23],[5,3,5,23],[4,1,4,23],[7,1,7,2],[7,30,7,31],[13,15,13,16],[14,15,14,16],[11,15,11,16],[12,15,12,16],[2,7,2,11],[2,20,2,21],[2,23,2,27]]}
["U13 drenge "]
[]
[{"$nulls":6},"Start :","14:05:00",{"$nulls":11},"Spilletid",1,null,"x","00:07:00",{"$nulls":4},"min",{"$nulls":7},"Pause:","00:01:00",{"$nulls":4},"min"]
[]
[null,"Gruppe A",{"$nulls":28},"Gruppe B"]
[null,"1.",null,"Håndværkerne",{"$nulls":26},"1.",null,"Vinten box boys"]
[null,"2.",null,"Hørning IF 1",{"$nulls":26},"2.",null,"KHIF 2"]
[null,"3.",null,"Hørning IF 3",{"$nulls":26},"3.",null,"Hørning IF 2"]
[null,"4.",null,"FLP løverne",{"$nulls":26},"4.",null,"fremad drengene"]
[]
[{"$nulls":15},"Gruppe C"]
[{"$nulls":15},"1.",null,"Hørning IF 4"]
[{"$nulls":15},"2.",null,"Team Hübsch"]
[{"$nulls":15},"3.",null,"Team glad for mad"]
[{"$nulls":15},"4.",null,"KHIF 1"]
[]
[null,"Nr.",{"$nulls":4},"Pulje",null,null,"Start",{"$nulls":38},"Resultat"]
[null,1,{"$nulls":4},"A",null,null,{"$f":"$H$3","v":"14:05:00"},{"$nulls":4},{"$f":"D6","v":"Håndværkerne"},{"$nulls":15},"-",{"$f":"D7","v":"Hørning IF 1"},{"$nulls":18},":"]
[null,2,{"$nulls":4},"A",null,null,{"$f":"J18+$U$3*$X$3+$AL$3","v":"14:13:00"},{"$nulls":4},{"$f":"D8","v":"Hørning IF 3"},{"$nulls":15},"-",{"$f":"D9","v":"FLP løverne"},{"$nulls":18},":"]
[null,3,{"$nulls":4},"B",null,null,"14:21:00",{"$nulls":4},{"$f":"AG6","v":"Vinten box boys"},{"$nulls":15},"-",{"$f":"AG7","v":"KHIF 2"},{"$nulls":18},":"]
[null,4,{"$nulls":4},"B",null,null,"14:29:00",{"$nulls":4},{"$f":"AG8","v":"Hørning IF 2"},{"$nulls":15},"-",{"$f":"AG9","v":"fremad drengene"},{"$nulls":18},":"]
[null,5,{"$nulls":4},"C",null,null,"14:37:00",{"$nulls":4},{"$f":"R12","v":"Hørning IF 4"},{"$nulls":15},"-",{"$f":"R13","v":"Team Hübsch"},{"$nulls":18},":"]
[null,6,{"$nulls":4},"C",null,null,"14:45:00",{"$nulls":4},{"$f":"R14","v":"Team glad for mad"},{"$nulls":15},"-",{"$f":"R15","v":"KHIF 1"},{"$nulls":18},":"]
[null,7,{"$nulls":4},"A",null,null,"14:53:00",{"$nulls":4},{"$f":"D9","v":"FLP løverne"},{"$nulls":15},"-",{"$f":"D6","v":"Håndværkerne"},{"$nulls":18},":"]
[null,8,{"$nulls":4},"A",null,null,"15:01:00",{"$nulls":4},{"$f":"D7","v":"Hørning IF 1"},{"$nulls":15},"-",{"$f":"D8","v":"Hørning IF 3"},{"$nulls":18},":"]
[null,9,{"$nulls":4},"B",null,null,"15:09:00",{"$nulls":4},{"$f":"AG9","v":"fremad drengene"},{"$nulls":15},"-",{"$f":"AG6","v":"Vinten box boys"},{"$nulls":18},":"]
[null,10,{"$nulls":4},"B",null,null,"15:17:00",{"$nulls":4},{"$f":"AG7","v":"KHIF 2"},{"$nulls":15},"-",{"$f":"AG8","v":"Hørning IF 2"},{"$nulls":18},":"]
[null,11,{"$nulls":4},"C",null,null,"15:25:00",{"$nulls":4},{"$f":"R15","v":"KHIF 1"},{"$nulls":15},"-",{"$f":"R12","v":"Hørning IF 4"},{"$nulls":18},":"]
[null,12,{"$nulls":4},"C",null,null,"15:33:00",{"$nulls":4},{"$f":"R13","v":"Team Hübsch"},{"$nulls":15},"-",{"$f":"R14","v":"Team glad for mad"},{"$nulls":18},":"]
[null,13,{"$nulls":4},"A",null,null,"15:41:00",{"$nulls":4},{"$f":"D6","v":"Håndværkerne"},{"$nulls":15},"-",{"$f":"D8","v":"Hørning IF 3"},{"$nulls":18},":"]
[null,14,{"$nulls":4},"A",null,null,"15:49:00",{"$nulls":4},{"$f":"D7","v":"Hørning IF 1"},{"$nulls":15},"-",{"$f":"D9","v":"FLP løverne"},{"$nulls":18},":"]
[null,15,{"$nulls":4},"B",null,null,"15:57:00",{"$nulls":4},{"$f":"AG6","v":"Vinten box boys"},{"$nulls":15},"-",{"$f":"AG8","v":"Hørning IF 2"},{"$nulls":18},":"]
[null,16,{"$nulls":4},"B",null,null,"16:05:00",{"$nulls":4},{"$f":"AG7","v":"KHIF 2"},{"$nulls":15},"-",{"$f":"AG9","v":"fremad drengene"},{"$nulls":18},":"]
[null,17,{"$nulls":4},"C",null,null,"16:13:00",{"$nulls":4},{"$f":"R12","v":"Hørning IF 4"},{"$nulls":15},"-",{"$f":"R14","v":"Team glad for mad"},{"$nulls":18},":"]
[null,18,{"$nulls":4},"C",null,null,"16:21:00",{"$nulls":4},{"$f":"R13","v":"Team Hübsch"},{"$nulls":15},"-",{"$f":"R15","v":"KHIF 1"},{"$nulls":18},":"]
[]
[null,"Nr.",{"$nulls":7},"Start",{"$nulls":4},"1/8 DEL",{"$nulls":33},"Resultat"]
[null,19,{"$nulls":7},{"$f":"J35+$U$3*$X$3+$AL$3","v":"16:29:00"},{"$nulls":4},{"$f":"IF(ISBLANK($AZ$31),\"\",IF(#REF!>0,\"ACHTUNG! Mannschaften gleich!\",#REF!))","v":""},{"$nulls":15},"-",{"$f":"IF(ISBLANK($AZ$35),\"\",IF(#REF!>0,\"ACHTUNG! Mannschaften gleich!\",#REF!))","v":""},{"$nulls":18},":"]
[{"$nulls":14},"2. grp. A/B/C",{"$nulls":16},"4 grp. A"]
[null,20,{"$nulls":7},{"$f":"J38+$U$3*$X$3+$AL$3","v":"16:37:00"},{"$nulls":4},{"$f":"IF(ISBLANK($AZ$33),\"\",IF(#REF!>0,\"ACHTUNG! Mannschaften gleich!\",#REF!))","v":""},{"$nulls":15},"-",{"$f":"IF(ISBLANK($AZ$35),\"\",IF(#REF!>0,\"ACHTUNG! Mannschaften gleich!\",#REF!))","v":""},{"$nulls":18},":"]
[{"$nulls":14},"2. grp. A/B/C",{"$nulls":16},"4 grp. B"]
[null,21,{"$nulls":7},{"$f":"J40+$U$3*$X$3+$AL$3","v":"16:45:00"},{"$nulls":4},{"$f":"IF(ISBLANK($AZ$31),\"\",IF(#REF!>0,\"ACHTUNG! Mannschaften gleich!\",#REF!))","v":""},{"$nulls":15},"-",{"$f":"IF(ISBLANK($AZ$35),\"\",IF(#REF!>0,\"ACHTUNG! Mannschaften gleich!\",#REF!))","v":""},{"$nulls":18},":"]
[{"$nulls":14},"3 grp. A",{"$nulls":16},"4. grp. C"]
[null,22,{"$nulls":7},{"$f":"J42+$U$3*$X$3+$AL$3","v":"16:53:00"},{"$nulls":4},{"$f":"IF(ISBLANK($AZ$31),\"\",IF(#REF!>0,\"ACHTUNG! Mannschaften gleich!\",#REF!))","v":""},{"$nulls":15},"-",{"$f":"IF(ISBLANK($AZ$35),\"\",IF(#REF!>0,\"ACHTUNG! Mannschaften gleich!\",#REF!))","v":""},{"$nulls":18},":"]
[{"$nulls":14},"3. grp. A",{"$nulls":16},"3. grp. C"]
[]
[null,"Nr.",{"$nulls":7},"Start",{"$nulls":4},"Kvartfinaler",{"$nulls":33},"Resultat"]
[null,23,{"$nulls":7},{"$f":"J42+$U$3*$X$3+$AL$3","v":"16:53:00"},{"$nulls":4},{"$f":"IF(ISBLANK($AZ$31),\"\",IF(#REF!>0,\"ACHTUNG! Mannschaften gleich!\",#REF!))","v":""},{"$nulls":15},"-",{"$f":"IF(ISBLANK($AZ$35),\"\",IF(#REF!>0,\"ACHTUNG! Mannschaften gleich!\",#REF!))","v":""},{"$nulls":18},":"]
[{"$nulls":14},"Vinder pulje A",{"$nulls":16},"Vinder kamp 19"]
[null,24,{"$nulls":7},{"$f":"J48+$U$3*$X$3+$AL$3","v":"17:01:00"},{"$nulls":4},{"$f":"IF(ISBLANK($AZ$33),\"\",IF(#REF!>0,\"ACHTUNG! Mannschaften gleich!\",#REF!))","v":""},{"$nulls":15},"-",{"$f":"IF(ISBLANK($AZ$35),\"\",IF(#REF!>0,\"ACHTUNG! Mannschaften gleich!\",#REF!))","v":""},{"$nulls":18},":"]
[{"$nulls":14},"Vinder pulje B",{"$nulls":16},"Vinder kamp 20"]
[null,25,{"$nulls":7},{"$f":"J50+$U$3*$X$3+$AL$3","v":"17:09:00"},{"$nulls":4},{"$f":"IF(ISBLANK($AZ$31),\"\",IF(#REF!>0,\"ACHTUNG! Mannschaften gleich!\",#REF!))","v":""},{"$nulls":15},"-",{"$f":"IF(ISBLANK($AZ$35),\"\",IF(#REF!>0,\"ACHTUNG! Mannschaften gleich!\",#REF!))","v":""},{"$nulls":18},":"]
[{"$nulls":14},"Vinder pulje C",{"$nulls":16},"Vinder kamp 21"]
[null,26,{"$nulls":7},{"$f":"J52+$U$3*$X$3+$AL$3","v":"17:17:00"},{"$nulls":4},{"$f":"IF(ISBLANK($AZ$33),\"\",IF(#REF!>0,\"ACHTUNG! Mannschaften gleich!\",#REF!))","v":""},{"$nulls":15},"-",{"$f":"IF(ISBLANK($AZ$35),\"\",IF(#REF!>0,\"ACHTUNG! Mannschaften gleich!\",#REF!))","v":""},{"$nulls":18},":"]
[{"$nulls":14},"Bedste 2ér",{"$nulls":16},"Vinder kamp 22"]
[]
[null,"Nr.",{"$nulls":7},"Start",{"$nulls":4},"Semifinaler",{"$nulls":33},"Resultat"]
[null,27,{"$nulls":7},{"$f":"J54+$U$3*$X$3+$AL$3","v":"17:25:00"},{"$nulls":4},{"$f":"IF(ISBLANK($AZ$48),\" \",IF($AW$48>$AZ$48,$O$48,IF($AZ$48>$AW$48,$AF$48)))","v":" "},{"$nulls":15},"-",{"$f":"IF(ISBLANK($AZ$50),\" \",IF($AW$50>$AZ$50,$O$50,IF($AZ$50>$AW$50,$AF$50)))","v":" "},{"$nulls":18},":"]
[{"$nulls":14},"Vinder kamp 23",{"$nulls":16},"Vinder kamp 24"]
[null,28,{"$nulls":7},{"$f":"J58+$U$3*$X$3+$AL$3","v":"17:33:00"},{"$nulls":4},{"$f":"IF(ISBLANK($AZ$52),\" \",IF($AW$52>$AZ$52,$O$52,IF($AZ$52>$AW$52,$AF$52)))","v":" "},{"$nulls":15},"-",{"$f":"IF(ISBLANK($AZ$54),\" \",IF($AW$54>$AZ$54,$O$54,IF($AZ$54>$AW$54,$AF$54)))","v":" "},{"$nulls":18},":"]
[{"$nulls":14},"Vinder kamp 25",{"$nulls":16},"Vinder kamp 26"]
[]
[null,"Nr.",{"$nulls":7},"Start",{"$nulls":4},"Finale",{"$nulls":33},"Resultat"]
[null,29,{"$nulls":7},{"$f":"J60+$U$3*$X$3+$AL$3","v":"17:41:00"},{"$nulls":4},{"$f":"IF(ISBLANK($AZ$58),\" \",IF($AW$58>$AZ$58,$O$58,IF($AZ$58>$AW$58,$AF$58)))","v":" "},{"$nulls":15},"-",{"$f":"IF(ISBLANK($AZ$60),\" \",IF($AW$60>$AZ$60,$O$60,IF($AZ$60>$AW$60,$AF$60)))","v":" "},{"$nulls":18},":"]
[{"$nulls":14},"Vinder kamp 27",{"$nulls":16},"Vinder kamp 28"]